BEGIN:VCALENDAR
VERSION:2.0
PRODID:-//Abaca Croisières - ECPv6.0.1.1//NONSGML v1.0//EN
CALSCALE:GREGORIAN
METHOD:PUBLISH
X-WR-CALNAME:Abaca Croisières
X-ORIGINAL-URL:https://www.abaca-croisieres.com
X-WR-CALDESC:Events for Abaca Croisières
REFRESH-INTERVAL;VALUE=DURATION:PT1H
X-Robots-Tag:noindex
X-PUBLISHED-TTL:PT1H
BEGIN:VTIMEZONE
TZID:Europe/Paris
BEGIN:DAYLIGHT
TZOFFSETFROM:+0100
TZOFFSETTO:+0200
TZNAME:CEST
DTSTART:20250330T010000
END:DAYLIGHT
BEGIN:STANDARD
TZOFFSETFROM:+0200
TZOFFSETTO:+0100
TZNAME:CET
DTSTART:20251026T010000
END:STANDARD
END:VTIMEZONE
BEGIN:VEVENT
DTSTART;TZID=Europe/Paris:20250527T080000
DTEND;TZID=Europe/Paris:20250706T170000
DTSTAMP:20260423T051626
CREATED:20250118T054845Z
LAST-MODIFIED:20250118T054845Z
UID:793-1748332800-1751821200@www.abaca-croisieres.com
SUMMARY:Réservé
DESCRIPTION:
URL:https://www.abaca-croisieres.com/event/reserve-2/
END:VEVENT
END:VCALENDAR